BEGIN:VCALENDAR
VERSION:2.0
X-WR-CALNAME:www.indybay.org
PRODID:-//indybay/ical// v1.0//EN
BEGIN:VEVENT
UID:Indybay-18549509
SEQUENCE:18587101
CREATED:20081107T192000Z
DESCRIPTION:Please join us on Friday November 14 to tell Bank of America and Citibank 
 that COAL IS OVER. Come out to the day of action in San Francisco for some 
 fun!\n\nWe are meeting at 1pm on Friday November 14 at the corner of Sutter 
 and Sansome, and from there we will drop in on a couple of Bank of America 
 and Citibank branches to let them know that times are changing and coal is 
 over.\n\nPlease bring your favorite no coal chant, noise makers, and your 
 energetic selves. We will have banners, signs, etc!\n\nIf you would like to 
 plug in as a photographer, videographer, rally co-coordinator, or street 
 theater performer, please let us know: faye@ran.org.\n\nIf you want to help 
 prepare, we will be having a workday on Monday, November 10 from 12-5 to 
 make materials and signs for the action, and would love some extra 
 creativity and hands. Please RSVP to faye@ran.org\n\nWHAT: Take Action 
 against Bank of America and Citi’s Dirty Coal Investments\nBRING: your 
 favorite no coal chants, noise makers, and your energetic selves.\nWHERE: 
 Sansome and Sutter\nWHEN: Friday, Nov 14, at 1pm\nCONTACT: 
 dirtymoney@ran.org\nINFO: www.dirtymoney.org\n 
 https://www.indybay.org/newsitems/2008/11/07/18549509.php
SUMMARY:Don't Foreclose on the Climate; No Coal and Coal Finance Day of Action
LOCATION:Sansome and Sutter, Across the street from the big Citibank offices.
URL:https://www.indybay.org/newsitems/2008/11/07/18549509.php
DTSTART:20081114T210000Z
DTEND:20081115T000000Z
END:VEVENT
END:VCALENDAR
