BEGIN:VCALENDAR
VERSION:2.0
X-WR-CALNAME:www.indybay.org
PRODID:-//indybay/ical// v1.0//EN
BEGIN:VEVENT
UID:Indybay-18549507
SEQUENCE:18587099
CREATED:20081107T190900Z
DESCRIPTION: Obama is president and change is amidst. Honey couldn't ask for a better 
 moment to spark its new project, a weekly Sunday night affair at Paradise 
 Lounge in San Francisco's SOMA district! We have been teasing you about it 
 for months now and we are so excited the pary is finally here! Honey 
 Soundsystem has been a roaming party for over a year now, bringing you to 
 so many San Francisco venues it would be tiring to list them all. We've 
 have been buzzing around so much our little wings are spent. Luckily, just 
 in time for the seasonal change in weather, we have found a hive to call 
 home! This Sunday November 9th, Honey Soundsystem will start is new weekly 
 residency at the newly renovated Paradise Lounge. Located on the corner of 
 11th and Folsom, smack dab on the border of SF's SOMA and Mission 
 districts, we have been dreaming of adding a dancefloor to your Sunday 
 folsom bar crawl! Settling into a place we can call home, we will be 
 bringing you everything you have come to expect us bee's and more (we 
 already have very special guests on their way!). So grab that yellow 
 highlighter and aim it for the 7th day of the week, break out your Sunday's 
 best, cause we are gonna start slapping that ass of your weekend.\n\nHoney 
 Sundays\nHard Energy Every Sunday Night\nHoney Residents: PeePlay, Ken 
 Vulsion, Kendig, Robot Hustle, and Josh Cheon\n8pm - 2am -- Starting this 
 Sunday November 9th\nParadise Lounge on 11th + Folsom\n1501 Folsom Street 
 in SOMA\nFREE\n\n https://www.indybay.org/newsitems/2008/11/07/18549507.php
SUMMARY:HONEY SUNDAYS LAUNCH
LOCATION:Paradise Lounge on 11th + Folsom\n1501 Folsom Street in SOMA
URL:https://www.indybay.org/newsitems/2008/11/07/18549507.php
DTSTART:20081110T040000Z
DTEND:20081110T100000Z
END:VEVENT
END:VCALENDAR
