BEGIN:VCALENDAR
VERSION:2.0
X-WR-CALNAME:www.indybay.org
PRODID:-//indybay/ical// v1.0//EN
BEGIN:VEVENT
UID:Indybay-18548874
SEQUENCE:18586144
CREATED:20081104T184800Z
DESCRIPTION:      Saturday, December 6,   2008, 8:00 a.m. - 2:00 p.m.: The GGNRA 
 Endangered Species Big Year is teaming up   with Bay Area Wilderness 
 Training for a moderate 5-mile one-way   journey up the slopes of Mount Tam 
 to Muir Woods to search for Coho   Salmon and Central California Coast 
 Steelhead as the fish return from the ocean to spawn in the   waters of 
 Redwood Creek.  We'll take the BAWTmobile back to our starting point!  
 Bring food and water,   & dress for cold, wet weather and wear boots as 
 trails may be   muddy. RSVP   required: call   415-572-6989. Free.  Meet at 
 the Tennessee Valley trailhead.   Click here for   directions.\n 
 https://www.indybay.org/newsitems/2008/11/04/18548874.php
SUMMARY:GGNRA Endangered Species Big Year Mt. Tam/Muir Woods Endangered Species Trek
LOCATION:Tennessee Valley Trailhead: 
 http://maps.google.com/maps/ms?hl=en&ie=UTF8&msa=0&msid=110694971276640320996.000457b0e50b83ae41dcf&ll=37.860472,-122.536064&spn=0.006641,0.008068&t=h&z=17
URL:https://www.indybay.org/newsitems/2008/11/04/18548874.php
DTSTART:20081206T160000Z
DTEND:20081206T220000Z
END:VEVENT
END:VCALENDAR
