BEGIN:VCALENDAR
VERSION:2.0
X-WR-CALNAME:www.indybay.org
PRODID:-//indybay/ical// v1.0//EN
BEGIN:VEVENT
UID:Indybay-18545940
SEQUENCE:18582588
CREATED:20081022T202300Z
DESCRIPTION:LGBT Senior Discussion Group. This is an informal group that is meeting to 
 create community and to help the Senior Center to be more LGBT welcoming. 
 Whether you are in the closet or out, partnered or single, outgoing or 
 shy....we hope you will join us for the opportunity to get to know each 
 other and build community.\n 
 https://www.indybay.org/newsitems/2008/10/22/18545940.php
SUMMARY:LGBT Senior Forum
LOCATION:30th Street Senior Center\n225 30th Street - 3rd Floor
URL:https://www.indybay.org/newsitems/2008/10/22/18545940.php
DTSTART:20081113T180000Z
DTEND:20081113T190000Z
END:VEVENT
END:VCALENDAR
