BEGIN:VCALENDAR
VERSION:2.0
X-WR-CALNAME:www.indybay.org
PRODID:-//indybay/ical// v1.0//EN
BEGIN:VEVENT
UID:Indybay-18545770
SEQUENCE:18582393
CREATED:20081021T162400Z
DESCRIPTION:"Why do the vast majority of African American, Latina, and Asian American 
 Pacific Islander women in the U.S. fail to vote? And why doesn't anyone 
 seem to care?"\nEngage Her: Getting Minority Women to Lead and Vote, a new 
 documentary produced  by a non-profit , explores this question and shows 
 the way to engagement with the political process. The 48-minute 
 non-partisan film encourages women of color to lead and to vote from now 
 on. Followed by inspiring discussion and audience participation.\nSee 
 EngageHer.org for more information.\n 
 https://www.indybay.org/newsitems/2008/10/21/18545770.php
SUMMARY:Engage Her: Getting Minority Women to Lead and Vote Screening
LOCATION:San Francisco Public Library, Civic Center\n100 Larkin Street, entrance on 
 Grove near Hyde\nKoret Auditorium,  Lower Level
URL:https://www.indybay.org/newsitems/2008/10/21/18545770.php
DTSTART:20081025T180000Z
DTEND:20081025T200000Z
END:VEVENT
END:VCALENDAR
