BEGIN:VCALENDAR
VERSION:2.0
X-WR-CALNAME:www.indybay.org
PRODID:-//indybay/ical// v1.0//EN
BEGIN:VEVENT
UID:Indybay-18545709
SEQUENCE:18582328
CREATED:20081021T051100Z
DESCRIPTION:"Asking the Right Questions: Peace Between Israel and the Palestinians" 
 \nWednesday, November 12, 2008  \n 9:00-10:30 AM \nFirst United Methodist 
 Church (Palo Alto)625 Hamilton Avenue, Palo Alto \n 
 https://www.indybay.org/newsitems/2008/10/20/18545709.php
SUMMARY:"Asking the Right Questions: Peace Between Israel and the Palestinians"
LOCATION:First United Methodist Church (Palo Alto)625 Hamilton Avenue, Palo Alto 
URL:https://www.indybay.org/newsitems/2008/10/20/18545709.php
DTSTART:20081112T170000Z
DTEND:20081112T183000Z
END:VEVENT
END:VCALENDAR
