BEGIN:VCALENDAR
VERSION:2.0
X-WR-CALNAME:www.indybay.org
PRODID:-//indybay/ical// v1.0//EN
BEGIN:VEVENT
UID:Indybay-18545246
SEQUENCE:18581742
CREATED:20081018T153600Z
DESCRIPTION: Save the date Friday evening, October 31\nAssemble at 16th and Mission, 
 San Francisco @ 6 pm:\n\nRise up and Dance!!!\n \nCome join the dance, all 
 you witches, yoginis, saints\nand sybils, you juicy wild women and all our 
 allies.\nCome together now and make your truths known.\nTogether we will 
 make an act of power\nto create deep and real change. \n \nFor eight years 
 the spin doctors have fooled people,\nbut they have gone too far and the 
 time is now:\nWe are ready to BREAK THE SPELL!\n\nLet's dance with laughter 
 and joy\nfor Earth and all her children,\nfor life and liberation, for all 
 our lives.\nLet's dance to wake up the people,\nrouse the power of justice 
 and truth,\nand prophecy at the crossroads.\nWe will sweep away racism and 
 misogyny,\nsweep away war and rape and hatred,\nsweep away lies and 
 corruption and division.\nBring your brooms!!!\n\nAll Hallows Eve: the 
 Ancestors are calling...\n \nWe are going to dance through the streets of 
 San Francisco and hold circle in a park.\nCome with costumes, masks, 
 banners, and drums!\n\n\nFor information and contact 
 numbers:\nhttp://www.motherpeace.com/index.php?loc=vicki_calendar\n\n\n 
 https://www.indybay.org/newsitems/2008/10/18/18545246.php
SUMMARY:CALLING ALL YOGINIS, CRAZY SAINTS, WILD WOMEN, & ALLIES TO CUT LOOSE & COME TO THE DANCE!
LOCATION:Gather at 16th and Valencia
URL:https://www.indybay.org/newsitems/2008/10/18/18545246.php
DTSTART:20081101T010000Z
DTEND:20081101T050000Z
END:VEVENT
END:VCALENDAR
