BEGIN:VCALENDAR
VERSION:2.0
X-WR-CALNAME:www.indybay.org
PRODID:-//indybay/ical// v1.0//EN
BEGIN:VEVENT
UID:Indybay-18545008
SEQUENCE:18581450
CREATED:20081017T065100Z
DESCRIPTION:Haymarket Books brings the Resisting Empire speaking tour to San Francisco. 
 Sponsored by Students Against War, Bay Area Iraq Veterans Against War, and 
 Radical Students. \n\nIraq war resister Camilo Mejia will be speaking. He 
 was one of the first to resist redeployment and serve jail time for his 
 objections. He is now the chair of Iraq Veterans Against War. His book is 
 Road from Ar Ramadi:the Private Rebellion of Staff Sgt. Mejia. \n\nIn 
 addition, Aaron Glantz will be speaking. Along with members of IVAW, he 
 compiled the Winter Soldier testimonies. \n\nPlease join us for this event. 
 \n\n$5 suggested donation (proceeds will go to both the Campus Antiwar 
 Network and IVAW)\nNo one will be turned away for lack of funds. \n 
 https://www.indybay.org/newsitems/2008/10/16/18545008.php
SUMMARY:Resisting Empire Book Tour
LOCATION:San Francisco State University \nHSS 154
URL:https://www.indybay.org/newsitems/2008/10/16/18545008.php
DTSTART:20081022T020000Z
DTEND:20081022T040000Z
END:VEVENT
END:VCALENDAR
