BEGIN:VCALENDAR
VERSION:2.0
X-WR-CALNAME:www.indybay.org
PRODID:-//indybay/ical// v1.0//EN
BEGIN:VEVENT
UID:Indybay-18544685
SEQUENCE:18581085
CREATED:20081015T190600Z
DESCRIPTION:This Open Process features a panel discussion with local arts educators 
 discussing the role and experiences of the educator in arts education. Join 
 us as arts educators from around the Bay Area share their perspectives and 
 stories, challenges, practices and inspirations as they foster environments 
 for self-expression and critical refl ection among today’s youth. This 
 evening will also feature youth graduates from the Bay Area Video 
 Coalition’s (BAVC) Audio Production Class, as well as artists and 
 educators Evan Bissell and Favianna Rodriguez.\nTuesday November 11 | 
 $5–$15 (18 & under Free) | 7pm\n 
 https://www.indybay.org/newsitems/2008/10/15/18544685.php
SUMMARY:Art as Education
LOCATION:Intersection for the Arts\n446 Valencia Street\nSan Francisco, CA 94103\n
URL:https://www.indybay.org/newsitems/2008/10/15/18544685.php
DTSTART:20081112T030000Z
DTEND:20081112T043000Z
END:VEVENT
END:VCALENDAR
