BEGIN:VCALENDAR
VERSION:2.0
X-WR-CALNAME:www.indybay.org
PRODID:-//indybay/ical// v1.0//EN
BEGIN:VEVENT
UID:Indybay-18544614
SEQUENCE:18580997
CREATED:20081015T051600Z
DESCRIPTION:Struggle\nTrying to vote in Ohio\n\nA "Street Level" documentary from 
 Mental-Rev Productions, Directed by Roger Hill, in Association with The 
 Free Press.\n\nStruggle, set primarily in Ohio, examines conditions that 
 lead to George W. Bush's victory in the 2004 Presidential election.  This 
 60 minute film distinguishes itself with a first person perspective that 
 captures the experience of those who struggled to vote, to have their votes 
 counted, and to publicly protest this subversion of democracy in America.  
 \n\nPlease join us for screenings in the Mission District in San Francisco 
 before the next election.  $5 to $10 suggested donation to cover costs.  No 
 one turned away for lack of funds.\n\nOctober 23 @ 8pm - Global Exchange - 
 2017 Mission St. 2nd Floor\nOctober 24, 29 @ 8pm - Women's Center - 3543 
 18th St # 8\n\nSee clips from the movie and get more information at 
 www.strugglethemovie.com and please forward this invitation to others\n 
 https://www.indybay.org/newsitems/2008/10/14/18544614.php
SUMMARY:New Film - Struggle: Trying to Vote in Ohio
LOCATION:Global Exchange - 2017 Mission St. 2nd Floor
URL:https://www.indybay.org/newsitems/2008/10/14/18544614.php
DTSTART:20081024T030000Z
DTEND:20081024T043000Z
END:VEVENT
END:VCALENDAR
