BEGIN:VCALENDAR
VERSION:2.0
X-WR-CALNAME:www.indybay.org
PRODID:-//indybay/ical// v1.0//EN
BEGIN:VEVENT
UID:Indybay-18542868
SEQUENCE:18578837
CREATED:20081004T194000Z
DESCRIPTION:Raj Patel, activist, academic & author of "Stuffed and Starved:The Hidden 
 Battle for the World Food System" will speak on globalization & root causes 
 of immigration. Following keynote will be responses from a multifaith 
 panel. Patel is a researcher at the University of KwaZulu-Natal in South 
 Africa and a UC Berkeley visiting scholar.\n\nSuggested donation $5-15.  No 
 one turned away for lack of funds.\n\nFor more information call 
 650-569-3416 or see our website.\n 
 https://www.indybay.org/newsitems/2008/10/04/18542868.php
SUMMARY:Raj Patel on Globalization & Immigration
LOCATION:First United Methodist Church, 625 Hamilton Ave., Palo Alto, CA
URL:https://www.indybay.org/newsitems/2008/10/04/18542868.php
DTSTART:20081021T020000Z
DTEND:20081021T033000Z
END:VEVENT
END:VCALENDAR
