BEGIN:VCALENDAR
VERSION:2.0
X-WR-CALNAME:www.indybay.org
PRODID:-//indybay/ical// v1.0//EN
BEGIN:VEVENT
UID:Indybay-18542615
SEQUENCE:18578552
CREATED:20081002T220300Z
DESCRIPTION:California is getting SANCTIFIED by the Stop Shopping Gospel, children, 
 when Reverend Billy and the Church Of Stop Shopping leave the failing banks 
 and panicked hustlers on Wall Street to celebrate the Good News with our 
 Parishoners in the Golden State, where THE GIFT ECONOMY IS ALWAYS 
 BOOMING!\n https://www.indybay.org/newsitems/2008/10/02/18542615.php
SUMMARY:Reverend Billy and the Church Of Stop Shopping
LOCATION:SACRAMENTO: Thurs, October 2 7:00 PM\nParking Lot Next to R5 Records, 2500 
 16th St, Sacramento, CA
URL:https://www.indybay.org/newsitems/2008/10/02/18542615.php
DTSTART:20081003T020000Z
DTEND:20081003T030000Z
END:VEVENT
END:VCALENDAR
