BEGIN:VCALENDAR
VERSION:2.0
X-WR-CALNAME:www.indybay.org
PRODID:-//indybay/ical// v1.0//EN
BEGIN:VEVENT
UID:Indybay-18542034
SEQUENCE:18577843
CREATED:20080930T194200Z
DESCRIPTION:Santa Cruz City Council Candidate Simba Kenyatta will be in the studio on 
 the air 7-8 PM answering questions and discussing Santa Cruz politics with 
 veteran interviewer Becky Johnson on Robert Norse's Bathrobespierre's 
 Broadsides show.\n\nSimba has been helping to organize the Countywide 
 Community Dialogue on Race, Poverty, Equality & Justice, which has been 
 meeting periodically gathering testimony in "listening 
 sessions".\n\nhttp://www.indybay.org/newsitems/2008/07/14/18516070.php\n\nThose 
 who have police or discrimination complaints can call Lloyd at 
 831-457-2406.\n\nCall in your questions on the air...\n\nOr leave questions 
 in advance at rnorse3@hotmail.com or 831-4232-4833. \n\n\n 
 https://www.indybay.org/newsitems/2008/09/30/18542034.php
SUMMARY:Candidate Kenyatta on Free Radio
LOCATION:101.1 FM Free Radio Santa Cruz (streams at www.freakradio.org\n\nCall-in at 
 427-3772 and 469-3119\n\nMore info: 479-9291
URL:https://www.indybay.org/newsitems/2008/09/30/18542034.php
DTSTART:20081003T020000Z
DTEND:20081003T030000Z
END:VEVENT
END:VCALENDAR
