BEGIN:VCALENDAR
VERSION:2.0
X-WR-CALNAME:www.indybay.org
PRODID:-//indybay/ical// v1.0//EN
BEGIN:VEVENT
UID:Indybay-18541698
SEQUENCE:18577385
CREATED:20080928T211300Z
DESCRIPTION:On October 5, 2008 World Teachers Day, labor supporters will join Cindy 
 Sheehan who is running for Congress against Nancy Pelosi. The meeting will 
 take place at 2:00 PM at ILWU Local 34 which is located at 2nd 
 St/Embarcadero next to AT&T Ball Park. Sheehan is opposed the tax payer 
 bailout to the banks of $700 billion and is for the war to end and funding 
 to go to education and healthcare.\nOn Oct 5 World Teachers Day-Labor Rally 
 For Cindy Sheehan \n\n\nA Campaign Rally for \n\nCindy Sheehan \n\nOn the 
 ballot in \nCongressional District 8 \n\n\nA Campaign Event Emphasizing 
 \n"People before Politics" \nOn World Teachers Day \n\n\nCindy Sheehan is 
 running for California's 8th Congressional District as an Independent 
 against Democratic House Speaker Nancy Pelosi. Unlike Nancy Pelosi, Cindy 
 Sheehandoes not believe one Wall Street banker should be bailed out before 
 hard working people, documented or undocumented, are expedited through this 
 financial crisis. Join us as we discuss the issues with Cindy and other 
 Labor and Community Activists... \n\nSunday, October 5th, 2008 2-4pm \nAt 
 the Hall of ILWU Local 34 at \n4 Berry St. (Behind AT&T Stadium) \nSpeakers 
 Include: \n\nCindy Sheehan (Candidate for Congressional District 8) 
 \n\nClarence Thomas (Member - ILWU Local 10** for id only) \n\nAnn 
 Robertson (Rep. of Labor for Cindy, Lecturer at S.F.S.U. & Member - 
 California Faculty Association**for id only) \n\nMichael Eisenscher 
 (Coordinator, Bay Area Labor Committee for Peace and Justice) \n\nPablo 
 Rodriguez (Teacher, Unionist, and Immigrant Rights Community Organizer) 
 \n\nSteve Zeltzer (Producer: Labor Video Project) On Repression Of Japanese 
 Anti-War Teachers and militarization \n\nA Statement from Betty Olson-Jones 
 (President -Oakland Education Association) \n\n\nMike Evans \nmike [at] 
 cindyforcongress.org 
 \nhttp://www.cindyforcongress.com/article.php?list=type&type=30 \n 
 https://www.indybay.org/newsitems/2008/09/28/18541698.php
SUMMARY:On Oct 5 World Teachers Day-Labor Rally For Cindy Sheehan
LOCATION:ILWU 34\n2nd St and Embarcadero next to AT&T Ball Park\nSan Francisco
URL:https://www.indybay.org/newsitems/2008/09/28/18541698.php
DTSTART:20081005T210000Z
DTEND:20081005T230000Z
END:VEVENT
END:VCALENDAR
