BEGIN:VCALENDAR
VERSION:2.0
X-WR-CALNAME:www.indybay.org
PRODID:-//indybay/ical// v1.0//EN
BEGIN:VEVENT
UID:Indybay-18541098
SEQUENCE:18576621
CREATED:20080924T183600Z
DESCRIPTION:Part post-religious prayer meeting and pre-Apocalypse activist strategy 
 session.\n\nAccompanying the Rev will be Savitri D, the director of the 
 "Fabulous Worships" (40 singers and 8 piece band that come to concert halls 
 as well as the well-known "Retail Interventions" inside Wal Marts and 
 Starbucks.  The troupe was subject of last year's feature film "What Would 
 Jesus Buy?," produced by Morgan Spurlock).\n\nThe performance at the 
 Friends Meeting House will be the Reverend preaching solo his sermon 
 "Change-a-lujah!" - which recently anchored church shows at the Destiny USA 
 super mall in Syracuse, New York and a performance for young people in 
 Cedar Rapids, epicenter of the corn syrup industry.\n\nAfter years of 
 urging Americans to slow down their consumption, events have come the 
 Reverend's way.  Join us at this time of crisis and opportunity.\n\n"I'll 
 be a talking head on Fox and they'll accuse me of not being a "real 
 preacher."  I say there is only one authentic preacher now, and the 
 forceful message comes in the form of floods and fire, drought and wind and 
 disease....  How do we believe?  Change-a-lujah!"\n\nThe Stop Shopping 
 Church accepts RSVPs at www.Revbilly.com   \nTickets are $10  or pay what 
 you can. \n\n\n https://www.indybay.org/newsitems/2008/09/24/18541098.php
SUMMARY:Reverend Billy: of the Church of Stop Shopping "Change-a-lujah!"
LOCATION:Quaker Meeting House\n225 Rooney St (just off Hwy 1 at Morrissey)\non the 
 east side of Santa Cruz
URL:https://www.indybay.org/newsitems/2008/09/24/18541098.php
DTSTART:20081001T030000Z
DTEND:20081001T043000Z
END:VEVENT
END:VCALENDAR
