BEGIN:VCALENDAR
VERSION:2.0
X-WR-CALNAME:www.indybay.org
PRODID:-//indybay/ical// v1.0//EN
BEGIN:VEVENT
UID:Indybay-18540941
SEQUENCE:18576416
CREATED:20080923T211300Z
DESCRIPTION:GUEST SPEAKERS:\n\nCHAIRMAN FRED HAMPTON JR.\n\nChairman Fred is the son of 
 assassinated Illinois Black Panther leader Chairman Fred Hampton. Chairman 
 Fred was a political prisoner of 9 years. He currently chairs an 
 organization that he founded in 1994, called the Prisoners of Conscience 
 Committee.\n\nRAMONA AFRICA\nRamona Africa is the only adult survivor of 
 the 1985 bombing of the MOVE family by Philadelphia police and city 
 officials resulting in the death of 11 people, 5 of who were children, and 
 the destruction of 60 homes. Ramona was immediately taken into custody and 
 eventually convicted of riot and conspiracy. She spent the next seven years 
 in prison.\n\nPAM AFRICA\nPam Africa is the Chairwoman of International 
 Concerned Family and Friends of Mumia Abu-Jamal. She has recently hosted a 
 weekly TV program in Philadelphia focusing on Mumia's struggle on 
 Pennsylvania's death row.\n\nMUSIC BY:\nTHE WELFARE POETS\nEL 
 MACHETERO!\n\nMonday September 29, 8:00-9:30pm\nG.H.W.\nR Youth Center\n30 
 Maple Ave\nWatsonville, CA\n\nSponsored by:\nTHE AUTONOMOUS CHAPTERS OF THE 
 BROWN BERETS, WATSONVILLE\nwww.brownberets.info\nPOCC: BLOCK REPORT 
 RADIO\nwww.blockreportradio.com\n\n 
 https://www.indybay.org/newsitems/2008/09/23/18540941.php
SUMMARY:No More Prisons!! No More Jails!! POCC, Fred Hampton Jr., The Welfare Poets...
LOCATION:G.H.W.R Youth Center\n30 Maple Ave\nWatsonville, CA 95076
URL:https://www.indybay.org/newsitems/2008/09/23/18540941.php
DTSTART:20080930T030000Z
DTEND:20080930T050000Z
END:VEVENT
END:VCALENDAR
