BEGIN:VCALENDAR
VERSION:2.0
X-WR-CALNAME:www.indybay.org
PRODID:-//indybay/ical// v1.0//EN
BEGIN:VEVENT
UID:Indybay-18540912
SEQUENCE:18576362
CREATED:20080923T171600Z
DESCRIPTION:Book release event for "THE ONLY ALTERNATIVE: CHRISTIAN NONVIOLENT 
 PEACEMAKERS IN AMERICA" (Wipf & Stock, 2008)by Alan Nelson and John 
 Malkin.\n\nJoin co-author John Malkin for a reading from his new book 
 highlighting the radical, revolutionary lives of compassion-based activists 
 like Martin Luther King Jr., Dorothy Day, Thomas Merton, Jim Douglass and 
 Kathy Kelly.\n https://www.indybay.org/newsitems/2008/09/23/18540912.php
SUMMARY:THE ONLY ALTERNATIVE: Christian Nonviolent Peacemakers in America
LOCATION:Resource Center for Nonviolence\n515 Broadway, Santa Cruz
URL:https://www.indybay.org/newsitems/2008/09/23/18540912.php
DTSTART:20081114T033000Z
DTEND:20081114T050000Z
END:VEVENT
END:VCALENDAR
