BEGIN:VCALENDAR
VERSION:2.0
X-WR-CALNAME:www.indybay.org
PRODID:-//indybay/ical// v1.0//EN
BEGIN:VEVENT
UID:Indybay-18540583
SEQUENCE:18576107
CREATED:20080922T062700Z
DESCRIPTION:Further Discussion on DNC/RNC Mobilizations!\n\nWe're excited to get the 
 discussion going again from where it left off last week. Station 40 is 
 being awesome and letting us use their space again. Sorry for last week, we 
 didn't budget our time as well as we could have so we weren't able to get 
 into the discussions we know everyone was hoping to have.\n\nBut this time 
 we got a good couple hours just to share our thoughts about the 
 mobilizations and start to look forward to where we're going from here as a 
 movement, both across the country (and globe) but especially here locally. 
 Bring your thoughts, questions, ideas, and hopefully we can have a really 
 lively and invigorating discussion.\n\nWe're looking forward to seeing you 
 on Tuesday night. Hope you all can make it!\n\n- 
 UA-in-the-Bay\n\n--------------\nThis TUESDAY, Sept. 23rd at 
 7:30PM\nStation 40- 3030b 16th St. @ Mission\n--------------\n 
 https://www.indybay.org/newsitems/2008/09/21/18540583.php
SUMMARY:Report-Back from DNC/RNC Mobilizations- Part 2
LOCATION:Station 40\n3030b 16th St. @ Mission\n(Mission District)
URL:https://www.indybay.org/newsitems/2008/09/21/18540583.php
DTSTART:20080924T023000Z
DTEND:20080924T043000Z
END:VEVENT
END:VCALENDAR
