BEGIN:VCALENDAR
VERSION:2.0
X-WR-CALNAME:www.indybay.org
PRODID:-//indybay/ical// v1.0//EN
BEGIN:VEVENT
UID:Indybay-18540356
SEQUENCE:18575732
CREATED:20080921T042600Z
DESCRIPTION:WATSONVILLE BENEFIT SHOW!!!\n\n Run with the Hunted\n Red Son\n Spinal 
 Breaker\n Deers! \nThe Pillowfights\n\nPLACE: G.H.W.R. Youth Center\n30 
 Maple Ave. Watsonville, CA\nTIME: 7 PM\n$5\n\n \n\n   Please show your 
 support by donating anything you can to help Nathan and his family with his 
 lawyer and court fees that are as of right now looking to be just over 
 $20,000 \n\nLots of bands, lots of fun, and mmmm vegan treats! You gotta be 
 there! \n https://www.indybay.org/newsitems/2008/09/20/18540356.php
SUMMARY:Watsonville Benefit Show for Nathan Knoerl/Pope
LOCATION:G.H.W.R. Youth Center\n30 Maple Ave. Watsonville, CA 
URL:https://www.indybay.org/newsitems/2008/09/20/18540356.php
DTSTART:20081012T020000Z
DTEND:20081012T030000Z
END:VEVENT
END:VCALENDAR
