BEGIN:VCALENDAR
VERSION:2.0
X-WR-CALNAME:www.indybay.org
PRODID:-//indybay/ical// v1.0//EN
BEGIN:VEVENT
UID:Indybay-18540069
SEQUENCE:18576350
CREATED:20080920T041400Z
DESCRIPTION:Central Coast Film Events with Simón Sedillo\n\nThursday, September 25, 
 2008\n8PM\nOffice of the Watsonville Brown Berets\n408 Main Street and 
 Beach Street\n(…behind Ritmo Latino)\nWatsonville, CA 95076\n\n\n\nAnd 
 the following days:\n\n\nFriday, September 26, 2008\n7:30PM\nResource 
 Center for Nonviolence\n515 Broadway\nSanta Cruz, CA 95060\nThis event is 
 sponsored by Tres Americas…incredible coffee will be 
 available!\n\nSaturday, September 27, 2008\n7:00PM\nMonterey Peace and 
 Justice Center\n801 Lighthouse Avenue\nMonterey, CA 93940\n\nAll events are 
 free (donations welcome) no one turned away for lack of funds. All 
 donations support the communities in resistance.\n\n\nSPEAKER 
 BIO:\n\nSimón Sedillo is a community based human rights film-maker whose 
 work has centered on placing skills, cameras and editing equipment in the 
 hands of communities in resistance so that they may be able to document 
 their own histories and human rights situation. Sedillo has spent the last 
 6 years documenting and teaching community based video documentation in 
 indigenous communities in Oaxaca, in immigrant communities in the US, and 
 with youth of color across the US.\n\nToday Sedillo shares some experiences 
 and perspective for international audiences in the US and Europe, on the 
 local and global implications of the Oaxacan people’s struggle. Through 
 lectures, workshops, and screenings Sedillo helps open a powerful space for 
 dialogue on the effects of neoliberalism on indigenous communities in 
 Oaxaca, immigrant communities around the world, and communities of color in 
 the US. Through collaborative media projects, Sedillo’s work has 
 contributed to a growing network of community based media activism whose 
 primary objective is to share, teach, and learn from one another, about 
 popular community based resistance and the collective construction of 
 horizontal networks of popular power.\n\nSedillo is currently on tour 
 screening short film segments from oaxaca and presenting workshops on the 
 following topics.\n\n-Neoliberalism 101\n-From Militarism to 
 Paramilitarism\n-Mesoamerican Indigenous Principles of Unity and 
 Resistance\n-Challenging International Solidarity: Alternative Media, Human 
 Right’s, and Self-determination\n-The commodification of sustainability 
 and resistance\n-The Fight for Community Rights\n-Bringing it home: The 
 effects of the neoliberal political economy on immigrant communities, and 
 communities of color in the US\n 
 https://www.indybay.org/newsitems/2008/09/19/18540069.php
SUMMARY:Watsonville: Self Determination and the Defense of Community Rights in Oaxaca and Beyond
LOCATION:Office of the Watsonville Brown Berets\n408 Main Street and Beach 
 Street\n(…behind Ritmo Latino)\nWatsonville, CA 95076
URL:https://www.indybay.org/newsitems/2008/09/19/18540069.php
DTSTART:20080926T030000Z
DTEND:20080926T040000Z
END:VEVENT
END:VCALENDAR
