BEGIN:VCALENDAR
VERSION:2.0
X-WR-CALNAME:www.indybay.org
PRODID:-//indybay/ical// v1.0//EN
BEGIN:VEVENT
UID:Indybay-18535406
SEQUENCE:18570480
CREATED:20080911T205800Z
DESCRIPTION:Acompáñenos a disfrutar una noche de música, arte, poesía y peliculas 
 cortas con artistas locales, celebrando nuestra historia, cultura e 
 independencia.\n\nEl evento es gratis.\n\nJoin us for a night of music, 
 art, poetry, and short films by local artists in celebration of our 
 history, culture, and independence.\n\nThis is a free 
 event.\n\nMid-September is a very important time for Mexico and Central 
 America because it symbolizes the efforts of resistance to be liberated 
 from Spanish-rule. While ongoing efforts of resistance are still going on 
 these areas, this poetry in action, from a diverse group of readers, in 
 addition to music, and art will celebrate the struggle of people to be 
 free.\n\nSponosored by: \nLa Peña del Sur, FMLN Base Committee of San 
 Francisco, La Ventana Collective, Cipactli\n 
 https://www.indybay.org/newsitems/2008/09/11/18535406.php
SUMMARY:Fiesta de la Independencia - Mexico and Central American Independence Day Celebration
LOCATION:Viernes, 12 de Septiembre \n6:30 PM\nEl Patio Restaurant\n3193 Mission St @ 
 Valencia St\n\nFriday, September 12th\n6:30 PM\nEl Patio Restaurant\n3193 
 Mission St. @ Valencia St.
URL:https://www.indybay.org/newsitems/2008/09/11/18535406.php
DTSTART:20080912T013000Z
DTEND:20080912T043000Z
END:VEVENT
END:VCALENDAR
