BEGIN:VCALENDAR
VERSION:2.0
X-WR-CALNAME:www.indybay.org
PRODID:-//indybay/ical// v1.0//EN
BEGIN:VEVENT
UID:Indybay-18534995
SEQUENCE:18577583
CREATED:20080911T000700Z
DESCRIPTION:  . Complimentary Workshops (1st of 4) discussing latest nutritional 
 findings that lend themselves as support in creating peace in our bodies & 
 on the planet. \n  . Enjoy a multi-media presentation\n  . Sample savory 
 treats\n  . Meet others who support healthy, peaceful lifestyles.\n  . 
 Limited seating. Call to reserve a place: 425-0438\n\n\n 
 https://www.indybay.org/newsitems/2008/09/10/18534995.php
SUMMARY:Peace Is Every Bite
LOCATION:Resource Center for Non-Violence\n515 Broadway Street, Santa Cruz\nLimited 
 parking in the back
URL:https://www.indybay.org/newsitems/2008/09/10/18534995.php
DTSTART:20081002T020000Z
DTEND:20081002T040000Z
END:VEVENT
END:VCALENDAR
