BEGIN:VCALENDAR
VERSION:2.0
X-WR-CALNAME:www.indybay.org
PRODID:-//indybay/ical// v1.0//EN
BEGIN:VEVENT
UID:Indybay-18534407
SEQUENCE:18569370
CREATED:20080909T001900Z
DESCRIPTION:BIKE TOUR: Ecological History North\nSun. Sept. 21, 12-4pm $15-50 sliding 
 scale to benefit Shaping SF\n\n"Best Cruise Through the Past" (SF Bay 
 Guardian 2007) Chris Carlsson takes bicyclists on a fun- and fact-filled 
 tour of SF's urban landscape, lost waterways, vanished hills, endangered 
 species and habitats, and how humans have changed the peninsula for better 
 and worse. This one goes north. More info/reservations: 415.608.9035\n 
 https://www.indybay.org/newsitems/2008/09/08/18534407.php
SUMMARY:BIKE TOUR: Ecological History North
LOCATION:CounterPULSE\n1310 Mission St.\nSan Francisco, CA 94103
URL:https://www.indybay.org/newsitems/2008/09/08/18534407.php
DTSTART:20080921T190000Z
DTEND:20080921T230000Z
END:VEVENT
END:VCALENDAR
