BEGIN:VCALENDAR
VERSION:2.0
X-WR-CALNAME:www.indybay.org
PRODID:-//indybay/ical// v1.0//EN
BEGIN:VEVENT
UID:Indybay-18534325
SEQUENCE:18569271
CREATED:20080908T192900Z
DESCRIPTION: On the anniversary of September 11th, CounterPULSE presents fresh work by 
 two artists who speak directly to the displacement and transformation 
 inherent to the experience of immigration, and the personal cost and the 
 War on Terror. Together, they weave dance, theater, music, and multimedia 
 into a rich personal tapestry with broad political implications.\n\nDhoom 
 Dhamaka!\n\nA collaboration between Joti Singh's Duniya Dance Company, 
 musician/dancer Boynarr Sow, and painter Daisy Rockwell, Dhoom Dhamaka! 
 explores the individual identities of both those in power and those 
 divested of power by the so-called "War on Terror".\n\nBorder TRIP(tych) 
 II: A BODY PARTED\n(shrapnel of present time / esquirlas de tiempo 
 presente)\n\nPerformance artist Violeta Luna, known for her work with 
 Guillermo Gomez-Peña, presents part two of Border TRIP(tych), a movement, 
 sound and media-based performance-art piece focused on an immigrant's 
 journey as she leaves her home in Latin America and arrives in the US 
 searching for work. \n\n\nTickets:      $12-20 (no one turned away for lack 
 of funds) http://www.brownpapertickets.com/event/33779  or 1-800-838-3006\n 
 https://www.indybay.org/newsitems/2008/09/08/18534325.php
SUMMARY:Dhoom Dhamaka! and A Body Parted
LOCATION:CounterPULSE\n1310 Mission St.\nSan Francisco, CA 94103
URL:https://www.indybay.org/newsitems/2008/09/08/18534325.php
DTSTART:20080914T030000Z
DTEND:20080914T043000Z
END:VEVENT
END:VCALENDAR
