BEGIN:VCALENDAR
VERSION:2.0
X-WR-CALNAME:www.indybay.org
PRODID:-//indybay/ical// v1.0//EN
BEGIN:VEVENT
UID:Indybay-18533195
SEQUENCE:18568005
CREATED:20080905T065400Z
DESCRIPTION:Richard Hayes Phillips, the leading investigator of the fraudulent 2004 
 presidential election in Ohio, will present findings from his recently 
 published book, "Witness to a Crime: A Citizens' Audit of an American 
 Election," with photographs of actual forensic evidence (including altered 
 ballots and voter signature books).  Sponsored by Humboldt County Green 
 Party.\n https://www.indybay.org/newsitems/2008/09/04/18533195.php
SUMMARY:Book Signing: Election Fraud in Ohio 2004
LOCATION:Northtown Books, 957 H Street, Arcata
URL:https://www.indybay.org/newsitems/2008/09/04/18533195.php
DTSTART:20080913T020000Z
DTEND:20080913T040000Z
END:VEVENT
END:VCALENDAR
