BEGIN:VCALENDAR
VERSION:2.0
X-WR-CALNAME:www.indybay.org
PRODID:-//indybay/ical// v1.0//EN
BEGIN:VEVENT
UID:Indybay-18530170
SEQUENCE:18564282
CREATED:20080827T001500Z
DESCRIPTION:Be a part of Coastal Clean Up in Richmond!\nMarina Bay Coastal Clean Up, 
 Richmond\nSaturday September 20,2008\n9:00 a.m. – 12:00 noon\nShimada 
 Friendship Park\n\nFREE BBQ at noon for volunteers!\nDirections: Exit I-580 
 in Richmond at Marina Bay Parkway, and go south towards the bay.\nWear 
 sturdy shoes, bring gloves and a water bottle if you have them. Children 
 must be accompanied by a parent or guardian.\nFor more information contact 
 lucyck@berkeley.edu/510-665-3689 or 
 juliana@thewatershedproject.org/510-665.3538.\n\n 
 https://www.indybay.org/newsitems/2008/08/26/18530170.php
SUMMARY:Be a part of Coastal Clean Up in Richmond!
LOCATION:Shimada Friendship Park, Richmond
URL:https://www.indybay.org/newsitems/2008/08/26/18530170.php
DTSTART:20080920T160000Z
DTEND:20080920T190000Z
END:VEVENT
END:VCALENDAR
