BEGIN:VCALENDAR
VERSION:2.0
X-WR-CALNAME:www.indybay.org
PRODID:-//indybay/ical// v1.0//EN
BEGIN:VEVENT
UID:Indybay-18528153
SEQUENCE:18562015
CREATED:20080820T195400Z
DESCRIPTION:The trial of Salim Ahmed Hamdan at Guantànamo Bay is the first US war 
 crimes tribunal since World War II. Hamdan’s detention and case is one of 
 the Supreme Court’s most significant decisions on presidential power and 
 the rule of law. New york Times Magazine journalist, Jonathan Mahler 
 discusses Hamdan v. Rumsfeld, the legality of the tribunals at Guantánamo 
 Bay, and the battle over presidential power.\n\nCheck-in: 5:30 PM; Program: 
 6:00 PM\n\nCouncil Members: Free, Students: $5, Nonmembers: $15\n\nFor more 
 information and to purchase tickets, please visit our website, call us at 
 415-293-4600, or email info@wacsf.org. \n 
 https://www.indybay.org/newsitems/2008/08/20/18528153.php
SUMMARY:Hamdan v. Rumsfeld: The Landmark Case & Impact on Guantánamo Detainees
LOCATION:World Affairs Council Auditorium\n312 Sutter Street, 2nd Floor\nSan 
 Francisco, CA 94108
URL:https://www.indybay.org/newsitems/2008/08/20/18528153.php
DTSTART:20080917T003000Z
DTEND:20080917T020000Z
END:VEVENT
END:VCALENDAR
