BEGIN:VCALENDAR
VERSION:2.0
X-WR-CALNAME:www.indybay.org
PRODID:-//indybay/ical// v1.0//EN
BEGIN:VEVENT
UID:Indybay-18527206
SEQUENCE:18560917
CREATED:20080817T162200Z
DESCRIPTION:San Rafael City Council meeting \n\nThe subject of traffic stops in the 
 Canal still not on the agenda whether we in the MPJC will go to the open 
 forum 8pm will be decided at meet 7:30pm - their is not consensus in some 
 less regular members - though regular members are all for getting it on the 
 cities agenda\n\nNext week are monthly forum - this month the issue is 
 Economic Collapse \n\nMarin County Gov. Meets this week 
 http://www.co.marin.ca.us/sysApps/Calendar/index.cfm\n2pm - 3301 Kerner 
 94901\nHousing Authority, Special Meeting: The Marin County Housing 
 Authority is separate and distinct from HUD, from county government, and 
 from other county and state agencies - much like a special district. The 
 Housing Authority Bpard of Commissioners currently consists of seven 
 members - the five members of the Board of Supervisors, and two public 
 housing tenants. Marin Housing operates programs in the incorporated areas 
 of Marin under Cooperation agreements with the local towns and cities. The 
 Housing Authority of the County of Marin, Housing Authority\n\n3501 Civic 
 Center Driv 94903\ncould find no agenda\nMarin County Transit District: The 
 Marin County Transit Distict (Marin Transit) was formed by a vote of the 
 people of Marin County in 1964 and was given the responsibility for 
 providing local transit service within Marin County. Although Marin Transit 
 has responsibility for local services, it does not own any buses or 
 facilities and does not employ its own drivers. Instead, Marin Transit 
 contracts with other providers, including Golden Gate Transit and 
 Whistlestop Wheels for local bus and paratransit services. All board 
 meetings and public hearings will be held in the Marin Civic Center, Board 
 of Supervisors' Chambers (Room 330 on the 3rd floor) unless noted. Regular 
 meetings are the third Monday of the month at 10:00 am.Transit 
 District\nBoard of Supervisors' Chambers (Room 330 on the 3rd floor) unless 
 noted. Regular meetings are the third Monday of the month at 10:00 
 am\nAgendas\nMonday, January 22, 2007, 10:00 A.M.\nMinutes\nsee streaming 
 video of meetings\nOn the agenda - West Marin Stagecoast Vans 
 Service\n\nTues.\n10am\nBoard of Supervisors:\n    	Board of Supervisors - 
 Agenda\n    	Board of Supervisors - Meeting Audio Netcast\n    	Board of 
 Supervisors - Minutes Search\n9am\nHousing Authority: The Marin County 
 Housing Authority is separate and distinct from HUD, from county 
 government, and from other county and state agencies - much like a special 
 district. The Housing Authority Bpard of Commissioners currently consists 
 of seven members - the five members of the Board of Supervisors, and two 
 public housing tenants. Marin Housing operates programs in the incorporated 
 areas of Marin under Cooperation agreements with the local towns and 
 cities. The Housing Authority of the County of Marin, Housing 
 Authority\n\nTh.\n\n3pm\nMarin Economic Commission\nMarin Economic 
 Commission: Regular Meeting of the Marin Economic CommissionMEC \nAgendas 
 and Minutes 	Note 	\n\n	Agenda (pdf)\n\n\nMon.\n\nSan Rafael City Council 
 meeting\n\nThe subject of traffic stops in the Canal still not on the 
 agenda whether we in the MPJC will go to the open forum 8pm will be decided 
 at meet 7:30pm - their is not consensus in some less regular members - 
 though regular members are all for getting it on the cities agenda\n\nput 
 up pres. and marin green party council member david quinley - semester 
 starts today for credit students \n 
 https://www.indybay.org/newsitems/2008/08/17/18527206.php
SUMMARY:Marin Peace and Justice Meeting{San Rafeall}usual meet place or city hall/Immigrants stops
LOCATION:the usual meet place or city hall at 8pm open forum www.mpjc.org 
 \n\nhttp://www.cityofsanrafael.org/Government/City_Clerk/City_Council_Redevelopment_Agency_Agendas.htm
URL:https://www.indybay.org/newsitems/2008/08/17/18527206.php
DTSTART:20080819T020000Z
DTEND:20080819T043000Z
END:VEVENT
END:VCALENDAR
