BEGIN:VCALENDAR
VERSION:2.0
X-WR-CALNAME:www.indybay.org
PRODID:-//indybay/ical// v1.0//EN
BEGIN:VEVENT
UID:Indybay-18526493
SEQUENCE:18560158
CREATED:20080815T004200Z
DESCRIPTION: " NOCHE DE CINE Y POESIA" Films with English Subtitles\n\nThursday August 
 28th, 2008 @ 7:00 P.M\nLa Peña\n3105 Shattuck Avenue\nBerkeley, CA 
 94705\n\n"Lorca: así que pasen cien años" (Dirs. Javier Rioyo and Jose L. 
 Lopez-Linares, 55 min., Spain) This beautifully crafted and rich 
 documentary celebrates Lorca's life through a look at his friends, his 
 music, and the cultural and political movements that influenced his 
 work.\n\n"Tres/Three" (Dirs. Anna Christopher, Paula Christensen, Robert 
 Weiermair, USA/Brazil, 26 min.) Three unique short stories share the same 
 heart- an intense but fleeting moment of emotional connection between two 
 people; based on the poetry of acclaimed Argentinean filmmaker, Carlos Hugo 
 Christensen.\n https://www.indybay.org/newsitems/2008/08/14/18526493.php
SUMMARY:NOCHE DE CINE Y POESIA
LOCATION:La Peña\n3105 Shattuck Avenue\nBerkeley, CA 94705
URL:https://www.indybay.org/newsitems/2008/08/14/18526493.php
DTSTART:20080829T020000Z
DTEND:20080829T050000Z
END:VEVENT
END:VCALENDAR
