BEGIN:VCALENDAR
VERSION:2.0
X-WR-CALNAME:www.indybay.org
PRODID:-//indybay/ical// v1.0//EN
BEGIN:VEVENT
UID:Indybay-18525309
SEQUENCE:18592554
CREATED:20080811T201400Z
DESCRIPTION:PELOSI’S COMING TO SAN RAFAEL!\n\nLet’s not miss this chance\nto let 
 her know what we think!\n\nTUESDAY, AUGUST 12, 6 PM DEMONSTRATE AGAINST WAR 
 AND REPRESSION:  SPEAKER OF THE HOUSE NANCY PELOSI AT DOMINICAN 
 UNIVERSITY\n\nSpeaker of the House Nancy Pelosi will speak on Tuesday, 
 August 12 at Dominican University's Angelico Hall.  Doors open at 6 p.m. 
 for the 7 p.m. lecture.  To attend, tickets are $35 per person (general 
 admission seating) which includes a copy of her new book, Know Your Power: 
 A Message to America’s Daughters. \n\nSpeaker of the House Nancy Pelosi 
 has led the Democrats in Congress in the appropriation of billions for the 
 illegal and genocidal wars in Afghanistan and Iraq.  She has guided the 
 Democratic Party in its collaboration in the ongoing destruction of the 
 Bill of Rights, in her support for telecommunications immunity law, and 
 other laws eroding the right to be free from unreasonable searches and 
 seizures, to habeas corpus and to a fair trial.  And she has staunchly 
 defended Congress' refusal to follow the Constitution's mandate that the 
 president and vice-president be impeached for their crimes.\n\nGather at 6 
 PM outside Angelico Hall, corner of Grand and Acacia. Bring signs and 
 noisemakers to express your objection to the wars in the Middle East and 
 the destruction of civil rights at home.  (No charge to attend 
 demonstration.)\n\nWHAT:  Demonstrate against Nancy “Not-On-the\n		  
 Table” Pelosi\nWHEN:  Tuesday, August 12 (gather at 6 P.M.)\nWHERE: 
 Dominican University, Angelico Hall, \n		    corner of Grand and Acacia in 
 San Rafael\nWHAT TO BRING:  Signs, banners, noise-makers, \n					  and your 
 INDIGNATION! \n\n\n\n\n 
 https://www.indybay.org/newsitems/2008/08/11/18525309.php
SUMMARY:PELOSI PROTEST
LOCATION:DOMINICAN UNIVERSITY, ANGELICO HALL\nCORNER OF GRAND & ACACIA STREETS\nSAN 
 RAFAEL, CA\n
URL:https://www.indybay.org/newsitems/2008/08/11/18525309.php
DTSTART:20080813T010000Z
DTEND:20080813T030000Z
END:VEVENT
END:VCALENDAR
