BEGIN:VCALENDAR
VERSION:2.0
X-WR-CALNAME:www.indybay.org
PRODID:-//indybay/ical// v1.0//EN
BEGIN:VEVENT
UID:Indybay-18522799
SEQUENCE:18556121
CREATED:20080804T193100Z
DESCRIPTION:The Center's Economic Development Program Announces "Business Plan Loan 
 Factory" Workshop Series\n\nEvery Tues., Aug. 19-Sept. 23, 8am-10am\n\nThe 
 "LGBT Business Plan Loan Factory" is for motivated entrepreneurs who want 
 to get loans to start or grow their own small businesses. The Business Plan 
 Laon Factory moves entrepreneurs quickly through the process of developing 
 their business plans, marketing plans, financial projections, and loan 
 packages. The Business Plan Laon Factory features specialists with 
 experience serving LGBT small business owners and knowledge about the LGBT 
 marketplace. Business Plan Loan Factory is also for current business owners 
 who need to write a business plan to get a loan to expand their 
 businesses.\n\nAt the end of the five-week workshop series, each 
 participant will have the opportunity to make a 20-minute presentation to 
 an expert panel that includes venture capitalists, micro lenders, SBA 
 lenders, and private sector small business lenders.\n\nFurther loan 
 packaging and post-loan technical assistance will be provided to those 
 clients who qualify for financing. To register or for more information, 
 please contact Tracey Williams at 415.865.5611 or traceyw@sfcenter.org \n 
 https://www.indybay.org/newsitems/2008/08/04/18522799.php
SUMMARY:"Business Plan Loan Factory" Workshop:Every Tues., Aug. 19-Sept. 23, 8am-10am
LOCATION:The LGBT San Francisco Center, 1800 Market Street, room 300, SF, CA 94102
URL:https://www.indybay.org/newsitems/2008/08/04/18522799.php
DTSTART:20080819T150000Z
DTEND:20080819T170000Z
END:VEVENT
END:VCALENDAR
