BEGIN:VCALENDAR
VERSION:2.0
X-WR-CALNAME:www.indybay.org
PRODID:-//indybay/ical// v1.0//EN
BEGIN:VEVENT
UID:Indybay-18517061
SEQUENCE:18549460
CREATED:20080717T195000Z
DESCRIPTION:Please Join Chris for our Official Campaign Kick-off!\n \nChris Cares About 
 Community College\n    When:   Thursday, July 17, 2008\n          Where:  
 LGBT Community Center\n                       1800 Market Street @ 
 Octavia\n                       4th Floor\n          Time:    6-8pm\n 
 \nLight snacks and wine will be provided. The following is a partial list 
 of speakers:\n\n    * John Rizzo, Board Member, San Francisco Community 
 College Board of Trustees\n    * Eric Mar, San Francisco Board of Education 
 Commissioner and Candidate for District 1 Supervisor\n    * Conny Ford, 
 Vice President, San Francisco Labor Council\n    * Jameel Patterson, 
 Associated Students Council, City College of San Francisco  \n\nWe hope you 
 can join Chris's supporters as we celebrate our official Campaign Kick-off! 
 As a Board member, Chris will work for students and working families in San 
 Francisco, aiming to increase access to college and implement creative 
 programs that provide economic and career opportunities fit for the 21st 
 century.  To learn more about Chris and why he's running please visit our 
 website.   \n \nCo-Sponsors\n\n    * Mark Leno, Assemblymember\n    * Tom 
 Ammiano, San Francisco Board of Supervisors\n    * Jeff Adachi, Public 
 Defender\n    * John Rizzo, Trustee, San Francisco Community College 
 Board\n    * Johnnie Carter, Former San Francisco Community College 
 Trustee\n    * Kim Shree-Maufas, Vice President, San Francisco Board of 
 Education \n    * Jane Kim, Commissioner, San Francisco Board of Education 
 \n    * Julius Turman, Co-Chair, Alice B. Toklas Democratic Club\n    * 
 Susan Christian, Co-Chair, Alice B. Toklas Democratic Club\n    * Doris 
 Ward, Former President, San Francisco Board of Supervisors\n    * Kenneth 
 Monteiro, Dean of Ethnic Studies, SF State University \n    * David Ho, 
 Chinatown Coalition for Better Housing\n    * Eddy Zheng, Youth Empowerment 
 Project\n    * Warren Mar, Instructor, City College of San Francisco\n    * 
 London Breed, Executive Director, African-American Arts & Cultural Center\n 
    * Lisa Williams, Former Executive Director, Ella Hill Hutch Community 
 Center\n    * Andrea Shorter, Former Community College Trustee\n    * Conny 
 Ford, Vice President San Francisco Labor Council\n    * Luke Klipp, 
 President, San Francisco Young Democrats\n    * Adam Borelli, Executive 
 Director, New Leaders Council\n    * Roger Scott, Instructor, City College 
 of San Francisco\n    * Kovak Williamson, Treasurer, AFT 2121\n    * 
 Caroline Alain Rodman, Rodman Consulting LLC\n\n \nThe Chris Jackson for 
 Community College Board Team would like to express a sincere thank you to 
 all of our Kick-off Co-Sponsors!   \n \nBecome a Sponsor!\n \nPlease pick 
 your Sponsorship Level for special recognition at the Kick-off:\n 
 \nChancellor: $500 \nDean: $400\nProfessor: $250\nAssociate Professor: 
 $100\n \nPlease let Chris know here if you'd like to become a Sponsor and 
 help elect Chris this November! Anything you can do is much appreciated.  
 For information on donating, please visit our website: 
 www.chrisjackson4collegeboard.com\nWe look forward to celebrating with you 
 July 17th! Feel free to invite others.  All are welcome!\n        \n \n 
 https://www.indybay.org/newsitems/2008/07/17/18517061.php
SUMMARY:CHRIS JACKSON'S CAMPAIGN KICK-OFF
LOCATION:When:   Thursday, July 17, 2008                             \nWhere:  LGBT 
 Community Center\n            1800 Market Street @ Octavia\n                
    4th Floor\nTime:    6-8pm
URL:https://www.indybay.org/newsitems/2008/07/17/18517061.php
DTSTART:20080718T010000Z
DTEND:20080718T090000Z
END:VEVENT
END:VCALENDAR
