BEGIN:VCALENDAR
VERSION:2.0
X-WR-CALNAME:www.indybay.org
PRODID:-//indybay/ical// v1.0//EN
BEGIN:VEVENT
UID:Indybay-18516487
SEQUENCE:18548780
CREATED:20080716T001900Z
DESCRIPTION:El comite de base del FMLN en San Francisco te invita este sabado 19 de 
 julio:\n\nConmemoremos la marcha estudiantil del 30 de julio de 1975 en El 
 Salvador\n\ny el 29 Aniversario del Triunfo de la Revolución Sandinista de 
 1979\n\nHabrá testimonios, música, poesía, videos, comida …\n 
 https://www.indybay.org/newsitems/2008/07/15/18516487.php
SUMMARY:Julio Heroico
LOCATION:522 Valencia St. @ 16th St, \nSan Francisco CA\n(a una cuadra del 16th st. 
 BART)\n
URL:https://www.indybay.org/newsitems/2008/07/15/18516487.php
DTSTART:20080720T000000Z
DTEND:20080720T030000Z
END:VEVENT
END:VCALENDAR
