BEGIN:VCALENDAR
VERSION:2.0
X-WR-CALNAME:www.indybay.org
PRODID:-//indybay/ical// v1.0//EN
BEGIN:VEVENT
UID:Indybay-18516302
SEQUENCE:18549619
CREATED:20080715T082100Z
DESCRIPTION:Directed by Francesco Taboada Tabone, 2002, 70 minutes\n\n*This outdoor 
 screening will take place on the back patio of Carlos Club (3278 Mission 
 Street) at the intersection of 24th and Mission, right off the BART. Arrive 
 early for food, drinks, and to marvel at Carlos Club's painting of Emiliano 
 Zapata*\n\n*presented by Artists' Television Access' Global Undergrounds 
 series, Workers International League, and Carlos Club*\n\nThursday, July 24 
 - 7 pm barbecue and drinks, 8:30 pm showtime, FREE\n\n*The Last Zapatistas, 
 Forgotten Heroes* is the chilling testimony of the soldiers who fought 
 beside their General Emiliano Zapata in the 1910 Mexican 
 Revolution.\n\nAlmost one hundred years later, these survivors of the 
 legendary Liberation Army of the South reveal a truth not to be found in 
 any book. They speak of the failure of the Revolution and of today's 
 neoliberal governments, of the agrarian and ecological disaster threatening 
 their country and of imminent civil war if the Zapatista ideals they 
 represent continue to be ignored.\n\nThese men and women are chapters of 
 unjust history, abandoned wisdom, banners for Mexico's underprivileged .... 
 they are the Forgotten Heroes.\n\n(This documentary includes the historic 
 encounter between members of the Zapatista National Liberation Army and the 
 Zapatista veterans).\n\n*OFFICIAL SELECTION*\n\n   - Los Angeles Latino 
 International Film Festival\n   - Festival de Cine Latino de San 
 Francisco\n   - Festival Dias de Cine Latinoamericano, Hamburgo, Alemania\n 
   - Newport Beach International Film Festival\n   - Pennsylvania 
 Internacional Film Festival\n   - Festival de Cine Documental de Belo 
 Horizonte, Brazil\n   - XXVIII Jornada Internacional de Cinema da Bahia, 
 Brazil\n   - Muestra Internacional de Cine Documental de Bogotá, 
 Colombia\n   - Festival de Cine Latino Sí-Sí-Cine, Toronto, Canada\n   - 
 Festival del Nuevo Cine Latinoamericano de la Habana, Cuba\n   - Nominated 
 for the Ariel , the highest award (equivalent to the Oscar in\n   the 
 United States) given by the Mexican Academy of Film Science and Art, in\n   
 the long documentary category.\n   - El estreno en Cines fue el 17 de abril 
 de 2001 en la Cineteca Nacional\n   en Ciudad de México.\n\nwheelchair 
 accessible\n\nhttp://www.atasite.org/calendar/?x=3171\n\nwww.socialistappeal.org\n 
 https://www.indybay.org/newsitems/2008/07/15/18516302.php
SUMMARY:The Last Zapatistas, Forgotten Heroes
LOCATION:Carlos Club \n3278 24th Street (right next to the 24th street BART 
 station)\nSan Francisco, CA 94110
URL:https://www.indybay.org/newsitems/2008/07/15/18516302.php
DTSTART:20080725T020000Z
DTEND:20080725T050000Z
END:VEVENT
END:VCALENDAR
