BEGIN:VCALENDAR
VERSION:2.0
X-WR-CALNAME:www.indybay.org
PRODID:-//indybay/ical// v1.0//EN
BEGIN:VEVENT
UID:Indybay-18514615
SEQUENCE:18546643
CREATED:20080708T222600Z
DESCRIPTION:A.N.S.W.E.R. Coalition Public Meeting\nEyewitness Cuba: Advancing in Times 
 of Crisis\n\nDespite the nearly 50-year blockade by the U.S., Cuba has not 
 only survived, but has made advances in all aspects of economic and social 
 life, including health and education. \n\nCome hear analyisis on Cuba today 
 and see a slideshow presentation by social documentary photographer and 
 ANSWER organizer, BIll Hackwell, who has been traveling to Cuba for over 15 
 years,  most recently this past May Day.  Discussion will follow. 
 \n\nSponsored by the A.N.S.W.E.R. Coalition (Act Now to Stop War & End 
 Racism)\n\n https://www.indybay.org/newsitems/2008/07/08/18514615.php
SUMMARY:Eyewitness Cuba: Advancing in Times of Crisis
LOCATION:636 9th St. at MLK, Oakland near 12th St. BART
URL:https://www.indybay.org/newsitems/2008/07/08/18514615.php
DTSTART:20080723T020000Z
DTEND:20080723T033000Z
END:VEVENT
END:VCALENDAR
