BEGIN:VCALENDAR
VERSION:2.0
X-WR-CALNAME:www.indybay.org
PRODID:-//indybay/ical// v1.0//EN
BEGIN:VEVENT
UID:Indybay-18513498
SEQUENCE:18547411
CREATED:20080705T043300Z
DESCRIPTION:THE EAGLE AND THE CONDOR: A BENEFIT FOR PEACE AND DIGNITY 
 JOURNEYS\n\nSaturday, July 12 Doors Open 7PM\nWORLD BEAT CENTER\n2100 Park 
 Blvd Balboa Park\nhttp://worldbeatcenter.org\n$5-10 donation\n\nTHREE 
 FIFTHS HUMAN\nLatin Hip Hop n Rock || myspace: 35thshuman\n\nTALIA 
 MORALES\nAcoustic Indigenous Music\n\nESTELA FLORES\nSpoken Word/MC\n\nRED 
 WARRIOR DRUMMERS\n\nplus Special Guests ----- DEEP ROOTED -----\nHip Hop || 
 deeprootedent.com | myspace: deeprootedent\n\n\nOn July 12, a fundraiser 
 will take place at the World Beat Center to help support runners on the 
 Peace and Dignity Journey, an intercontinental spiritual run that began in 
 Alaska and Tierra del Fuego in May, is passing through hundreds of 
 indigenous communities, and will meet at the Panama Canal in November. The 
 goals of the journey include strengthening and sharing indigenous culture, 
 uniting indigenous peoples, and uniting all peoples -- thereby fulfilling 
 the prophecy of the Eagle and the Condor.\n\nFive of the core runners, 
 those who are running the entire route, are from San Diego. One strand of 
 the Northern route will join a feeder run arriving from the Mexico-US 
 border in Balboa Park between the World Beat Center and the Centro Cultural 
 de la Raza on July 23. From there, the runners will proceed along with 
 community members to Chican@ Park for a public welcoming ceremony, arriving 
 shortly after 5pm.\n\nThe fundraiser will feature performers who are 
 immersed in or supportive of indigenous culture in the border region, as 
 well as speakers discussing their experiences as runners in past Peace and 
 Dignity Journeys.\n\nFor more information about Peace and Dignity Journeys, 
 check out:\nhttp://peaceanddignityjourneys.com\n\n 
 https://www.indybay.org/newsitems/2008/07/04/18513498.php
SUMMARY:Sat July 12 7pm World Bt Ctr Peace + Dignity Journeys Benefit Concert
LOCATION:WORLD BEAT CENTER\n2100 Park Blvd Balboa Park\nhttp://worldbeatcenter.org\n
URL:https://www.indybay.org/newsitems/2008/07/04/18513498.php
DTSTART:20080713T020000Z
DTEND:20080713T060000Z
END:VEVENT
END:VCALENDAR
