BEGIN:VCALENDAR
VERSION:2.0
X-WR-CALNAME:www.indybay.org
PRODID:-//indybay/ical// v1.0//EN
BEGIN:VEVENT
UID:Indybay-18513349
SEQUENCE:18545200
CREATED:20080704T152900Z
DESCRIPTION:Are you aware that a serious disservice is happening in our community? It 
 may not be directly affecting you today, but what about tomorrow?\n\nIt is 
 urgently important that you attend a community meeting to get the facts. 
 You can help bring this unfortunate situation to a halt.\n\nThe Time Is 
 Now! Let Your Voice Be heard!\n\nTuesday, July 21, 2008\n5:30 p.m. - 8:00 
 p.m.\nHinton Community Center\n2385 S. Fairview, Fresno\n\nBrought to you 
 by:\nThe Hinton Center Community Action Committee\n 
 https://www.indybay.org/newsitems/2008/07/04/18513349.php
SUMMARY:Community Meeting - Save The Hinton Center
LOCATION:Hinton Community Center\n2385 S. Fairview, Fresno
URL:https://www.indybay.org/newsitems/2008/07/04/18513349.php
DTSTART:20080722T003000Z
DTEND:20080722T030000Z
END:VEVENT
END:VCALENDAR
