BEGIN:VCALENDAR
VERSION:2.0
X-WR-CALNAME:www.indybay.org
PRODID:-//indybay/ical// v1.0//EN
BEGIN:VEVENT
UID:Indybay-18513015
SEQUENCE:18544777
CREATED:20080703T143000Z
DESCRIPTION:Are you curious to learn practical ways to heal our relationship with the 
 natural and built environment?\n\nWould you like to learn how to integrate 
 ancient wisdom with the challenges of modern life?\nAre you searching for 
 an inspiring and empowering career path and be of service to the 
 community?\n\nAre you eager to learn from the best to enhance or start a 
 rewarding, sustainable and profitable career?\n\nIf you answered yes to any 
 of these questions we invite you to attend one of our complimentary 
 orientation evenings being held from June to October 2008.\n\nThe 
 orientation evening introduces you to the most successful curriculum in 
 Classical Feng Shui and Taoist philosophy in the world. The program has 
 been developed over 20 years by Feng Shui expert and pioneer Roger Green. 
 \n\nThe program teaches classical Feng Shui principles and techniques, 
 Taoist philosophy, cosmology, astrology, solar design, natural healing, 
 sacred geometry, space clearing and ecological design awareness and design 
 for sustainable environments\n\nPlease come to our complimentary 
 orientation evening held in San Francisco's Chinatown. You will be able to 
 meet Roger Green program director, the faculty, staff and graduates of our 
 program.\n\nListen to a talk on Feng Shui, Eco- design by Roger Green and 
 other aspects of our exciting practitioner program.\n\nSpace is limited and 
 you will need to book so call 1-866 983 6868\n 
 https://www.indybay.org/newsitems/2008/07/03/18513015.php
SUMMARY:Feng Shui and Eco Design : Free Orientation Evening
LOCATION:Triton Hotel, Creative Zone, 2nd Floor\n342 Grant Ave\nSan Francisco, CA 
 94108\n415-394-0555\nhttp://www.hoteltriton.com
URL:https://www.indybay.org/newsitems/2008/07/03/18513015.php
DTSTART:20080716T023000Z
DTEND:20080716T040000Z
END:VEVENT
END:VCALENDAR
