BEGIN:VCALENDAR
VERSION:2.0
X-WR-CALNAME:www.indybay.org
PRODID:-//indybay/ical// v1.0//EN
BEGIN:VEVENT
UID:Indybay-18512510
SEQUENCE:18544224
CREATED:20080701T204200Z
DESCRIPTION:Humboldt Against the DNC will have its founding meeting on Saturday, July 
 12th at 1:30pm.\n\nThe venue for this meeting will be the PARC Office in 
 Eureka, which is on 2nd Street between D and E, up the stairs in the wooden 
 complex with the courtyard (sorry for the bungled directions, it is a 
 little hard to find).\n\nWe call on all progressive forces to attend this 
 meeting, to send spokespeople and to to get actively involved in 
 contributing to the effort to create powerful days and nights of resistance 
 to the DNC in August and to the neoliberal empire it represents.\n 
 https://www.indybay.org/newsitems/2008/07/01/18512510.php
SUMMARY:Humboldt Against the DNC Founding Meeting!
LOCATION:The PARC Office, Eureka
URL:https://www.indybay.org/newsitems/2008/07/01/18512510.php
DTSTART:20080712T203000Z
DTEND:20080712T203000Z
END:VEVENT
END:VCALENDAR
