BEGIN:VCALENDAR
VERSION:2.0
X-WR-CALNAME:www.indybay.org
PRODID:-//indybay/ical// v1.0//EN
BEGIN:VEVENT
UID:Indybay-18512285
SEQUENCE:18543980
CREATED:20080630T213200Z
DESCRIPTION:Ever heard of the Trunk Boiz, Scraper Bikes, Onefam, American Friends 
 Service Committee? Well you don't need to have. All you need to know is 
 that youth in East Oakland have come up with creative solutions to address 
 our country's overconsumption of oil with the new Scraper Bike Movement! 
 And Bikes 4 Life is hosting a ride around Lake Merritt to promote a gun 
 truce in Oakland. We'll be meeting at the Playground Area of Lake Merritt 
 at 2 PM. We're even looking for volunteers if you want to get in deep. So 
 bring your bikes (Scraper or not) and bring your soul, and be a part of the 
 movement!\n https://www.indybay.org/newsitems/2008/06/30/18512285.php
SUMMARY:Bikes 4 Life
LOCATION:Lake Merrit, we begin the ride at the Playground
URL:https://www.indybay.org/newsitems/2008/06/30/18512285.php
DTSTART:20080713T210000Z
DTEND:20080713T220000Z
END:VEVENT
END:VCALENDAR
