BEGIN:VCALENDAR
VERSION:2.0
X-WR-CALNAME:www.indybay.org
PRODID:-//indybay/ical// v1.0//EN
BEGIN:VEVENT
UID:Indybay-18511855
SEQUENCE:18543477
CREATED:20080628T224500Z
DESCRIPTION:With Chude Pam Allen and Roxanne Dunbar-Ortiz\nChude Pam Allen was an early 
 working class organizer in the women’s liberation movement and was in San 
 Francisco in 1968. She helped build the Union Women’s Alliance to Gain 
 Equality in 1974, she coordinated their 1975 Organize! Conference and later 
 became editor of its newspaper, Union WAGE.  She is author of the Union 
 WAGE pamphlet, Jean Maddox, Labor Heroine.\nRoxanne Dubar Ortiz has been 
 involved in the struggle for women’s rights also since the 60’s. In New 
 Orleans, she organized the Southern Female Rights Union and the New Orleans 
 Women Workers Association. She is a university lecturer and has written 12 
 books. Roxanne grew up in rural Oklahoma of a family of tenant farmers.  
 Her grandfather was active in the Oklahoma Socialist Party and the IWW in 
 the first 2 decades of the 20th century.\nSee 
 also:\nhttp://www.laborfest.net/2008schedule.htm\n 
 https://www.indybay.org/newsitems/2008/06/28/18511855.php
SUMMARY:Laborfest: 1968 Women's Liberation Movement & Labor
LOCATION:Modern Times Bookstore 888 Valencia St., at 20th St., San Francisco (24th 
 St BART)\n
URL:https://www.indybay.org/newsitems/2008/06/28/18511855.php
DTSTART:20080722T020000Z
DTEND:20080722T040000Z
END:VEVENT
END:VCALENDAR
