BEGIN:VCALENDAR
VERSION:2.0
X-WR-CALNAME:www.indybay.org
PRODID:-//indybay/ical// v1.0//EN
BEGIN:VEVENT
UID:Indybay-18511816
SEQUENCE:18543429
CREATED:20080628T191000Z
DESCRIPTION:The class struggle at home is the focus of this set of outstanding 
 movies.\n\n(1) SF Mess (42 min) 2008\nBy Greg Rodgers\nThis locally 
 produced documentary in San Francisco looks at the union organizing effort 
 in the San Francisco bike messenger world. Learn about the lives and 
 conditions of bike messenger workers.\n\n(2) Our Families, Our Community, 
 Our Union (12 min) 2007\nBy Jano Oscherwitz \nThis documentary shows the 
 struggle of Native American healthcare workers to organize and the issues 
 that they face.\n\n(3) Justice Can't Be Temporary (8 min) 2007\nBy Jano 
 Oscherwitz & Octavio Velarde, SEIU 1021 Organizer \nTens of thousands of 
 public workers in California are prevented from getting permanent full time 
 jobs by their “temporary” or “part time status.” This video shows 
 why these workers are struggling for full rights after many years on the 
 job\nSee also\nhttp://www.laborfest.net/2008schedule.htm\n 
 https://www.indybay.org/newsitems/2008/06/28/18511816.php
SUMMARY:Laborefest: Movies on Current American Labor Issues
LOCATION:Roxie Theatre, 3117 16th St., San Francisco (16th St BART)\n
URL:https://www.indybay.org/newsitems/2008/06/28/18511816.php
DTSTART:20080718T000000Z
DTEND:20080718T010000Z
END:VEVENT
END:VCALENDAR
