BEGIN:VCALENDAR
VERSION:2.0
X-WR-CALNAME:www.indybay.org
PRODID:-//indybay/ical// v1.0//EN
BEGIN:VEVENT
UID:Indybay-18510298
SEQUENCE:18541669
CREATED:20080623T025400Z
DESCRIPTION:The Fresno Center for Nonviolence Anniversary Celebration will be held at 
 the Unitarian Universalist Church at 2672 E Alluvial Ave (just West of 
 Willow).  The keynote speaker will be David Barsamian on “What We Say 
 Goes: America Tries to Rule the World.”  The Way of Peace Awards will be 
 presented.  $5.  There will be a Peace by Chocolate Dessert Reception (call 
 Angela at 435-6383 if you can bring a chocolate dessert).\n\n 
 https://www.indybay.org/newsitems/2008/06/22/18510298.php
SUMMARY:The Fresno Center for Nonviolence Anniversary Celebration
LOCATION:Unitarian Universalist Church at 2672 E Alluvial Ave (just West of Willow)
URL:https://www.indybay.org/newsitems/2008/06/22/18510298.php
DTSTART:20080629T110000Z
DTEND:20080629T130000Z
END:VEVENT
END:VCALENDAR
