BEGIN:VCALENDAR
VERSION:2.0
X-WR-CALNAME:www.indybay.org
PRODID:-//indybay/ical// v1.0//EN
BEGIN:VEVENT
UID:Indybay-18510152
SEQUENCE:18541489
CREATED:20080622T173300Z
DESCRIPTION:US Premier \nNot Just A Matter of Saving Our Skins / Utopia and IG Metal   
 (81 min) 2007 (Germany) English subtitles.\nBy Holger Wegemann \nIn May 
 2005, the Bosch-Siemens workers in Berlin who produce Siemens household 
 appliances were threatened with the closure of their factory and the loss 
 of 600 jobs. The company claimed that the location was too expensive and 
 technically out of date. The company demanded that 600 workers transferred 
 and take massive cuts in salaries and benefits. The workers faced a union 
 that was organizing a deal which was unacceptable to the majority, and they 
 were accused by the media of being “utopian.” This film shows the story 
 of their struggle both personally and politically.\nSee 
 also\nhttp://www.videowerkstatt.de/ 
 \nhttp://www.youtube.com/watch?v=7AgToTutugA\nhttp://solimarsch.eu/5.html\nand\nhttp://www.laborfest.net/2008schedule.htm\n 
 https://www.indybay.org/newsitems/2008/06/22/18510152.php
SUMMARY:Laborfest: Movie on German Workers Struggles
LOCATION:Roxie Theatre 3117 16th St., San Francisco (16th St BART)\n
URL:https://www.indybay.org/newsitems/2008/06/22/18510152.php
DTSTART:20080716T000000Z
DTEND:20080716T020000Z
END:VEVENT
END:VCALENDAR
