BEGIN:VCALENDAR
VERSION:2.0
X-WR-CALNAME:www.indybay.org
PRODID:-//indybay/ical// v1.0//EN
BEGIN:VEVENT
UID:Indybay-18509875
SEQUENCE:18541131
CREATED:20080621T205100Z
DESCRIPTION:In the spirit of the famous address by Frederick Douglass,"What to the 
 American Slave, Is  Your Fourth of July?" Poetry, Food, Discussion.\n 
 https://www.indybay.org/newsitems/2008/06/21/18509875.php
SUMMARY:Anti- July 4th Celebration
LOCATION:Revolution Books\n2425 Channing Way(off of Telegraph Avenue in the Sather 
 Gate Parking Mall)\nBerkeley,CA
URL:https://www.indybay.org/newsitems/2008/06/21/18509875.php
DTSTART:20080705T010000Z
DTEND:20080705T033000Z
END:VEVENT
END:VCALENDAR
