BEGIN:VCALENDAR
VERSION:2.0
X-WR-CALNAME:www.indybay.org
PRODID:-//indybay/ical// v1.0//EN
BEGIN:VEVENT
UID:Indybay-18508127
SEQUENCE:18538998
CREATED:20080617T201400Z
DESCRIPTION:ANSWER Coalition Film Series\n"Romántico"\n\nSet in San Francisco’s 
 Mission district, Romántico is a documentary about Mexican musician 
 Carmelo Muñiz Sánchez, who leaves San Francisco to return home to his 
 beloved wife, daughters and ailing mother after years playing in taquerías 
 and bars. But once Carmelo arrives home, he is confronted with the 
 struggles and poverty wages that led to his first border crossing. This 
 touching film helps to sensitize viewers to the dignity of the undocumented 
 workers and the hardships they face. 2005, 80min., Directed by Mark Becker. 
  \n\nCall 415-821-6545 for more info. \n\n\n\n 
 https://www.indybay.org/newsitems/2008/06/17/18508127.php
SUMMARY:"Romántico" a film about immigration & the Mission district
LOCATION:ATA (Artists' Television Access)\n992 Valencia St. at 21st, SF\n$6 donation
URL:https://www.indybay.org/newsitems/2008/06/17/18508127.php
DTSTART:20080711T023000Z
DTEND:20080711T040000Z
END:VEVENT
END:VCALENDAR
