BEGIN:VCALENDAR
VERSION:2.0
X-WR-CALNAME:www.indybay.org
PRODID:-//indybay/ical// v1.0//EN
BEGIN:VEVENT
UID:Indybay-18507487
SEQUENCE:18538278
CREATED:20080616T020800Z
DESCRIPTION:Outside The Box: Corporate Media, Globalization, & The UPS Strike.  Book 
 reading and Presentation by author Deepa Kumar, Assistant Professor of 
 Media Studies at Rutgers University\nThe need for a critical analysis of 
 how labor struggles are presented and packaged by the corporate media and 
 how labor can counteract the anti-labor bias is the focus of this book. It 
 looks at the media battle behind the most important successful national 
 strike in recent years by the International Brotherhood of Teamsters 
 against the United Parcel Service. The New York Times complained that the 
 problem of the strike was that the public believed that the strike was 
 about “part time” work.\nSee 
 also\nhttp://www.scils.rutgers.edu/~dkumar/book.htm\nand\nhttp://www.laborfest.net/2008schedule.htm\n 
 https://www.indybay.org/newsitems/2008/06/15/18507487.php
SUMMARY:Laborfest: Outside The Box: Corporate Media, Globalization, & The UPS Strike
LOCATION:Modern Times Bookstore, 888 Valencia St. at 20th St., San Francisco (near 
 24th St BART)
URL:https://www.indybay.org/newsitems/2008/06/15/18507487.php
DTSTART:20080710T020000Z
DTEND:20080710T040000Z
END:VEVENT
END:VCALENDAR
