BEGIN:VCALENDAR
VERSION:2.0
X-WR-CALNAME:www.indybay.org
PRODID:-//indybay/ical// v1.0//EN
BEGIN:VEVENT
UID:Indybay-18506861
SEQUENCE:18537619
CREATED:20080614T021600Z
DESCRIPTION:Then and Now: Annual Art & Art Therapy Exhibition\nJuly 11 - Aug 8\n \nThe 
 Graduate Art Therapy Students Association of Notre Dame de Namur University 
 is proud to present their annual art and art therapy exhibition. The 
 exhibit will showcase artwork created by students, faculty, and alumni of 
 the Masters of Arts in Art Therapy and Marriage and Family Therapy Program, 
 with featured artist Cay Drachnik.\n \nOpening Night  is Friday, July 11, 
 2008 from 7pm to 9pm at the NDNU Weigand Gallery, 1500 Ralston Avenue, 
 Belmont.  \n \nThis exhibition is free to the public and will continue 
 until Friday, August 8th. Gallery hours after the opening will be from noon 
 to 4pm on Tuesday through Saturday; for directions to the gallery or more 
 information, please e-mail arttherapy@ndnu.edu or call 650.508.3556, or on 
 the web at 
 http://www.ndnu.edu/academics/schools-programs/school-sciences/art-therapy-psychology.aspx. 
  \n https://www.indybay.org/newsitems/2008/06/13/18506861.php
SUMMARY:THEN AND NOW
LOCATION:NDNU Weigand Gallery, 1500 Ralston Ave., Belmont, CA
URL:https://www.indybay.org/newsitems/2008/06/13/18506861.php
DTSTART:20080712T020000Z
DTEND:20080712T040000Z
END:VEVENT
END:VCALENDAR
