BEGIN:VCALENDAR
VERSION:2.0
X-WR-CALNAME:www.indybay.org
PRODID:-//indybay/ical// v1.0//EN
BEGIN:VEVENT
UID:Indybay-18505793
SEQUENCE:18536390
CREATED:20080611T012500Z
DESCRIPTION:The 19th International Annual Conference of the\nIranian Women's Studies 
 Foundation\n\nThe essential Needs of The Iranian Woman\n\nJuly 4-6, 
 2008\nWheeler Auditorium\nUniversity of California, Berkeley\n\nDespite a 
 myriad of social and legal setbacks in the\nlast thirty years where Iranian 
 women lost many of the\nrights they had attained in the past 100 years, 
 they\nhave continuously strived to improve their social and\npolitical 
 status. Consequently they have established\ntheir presence in different 
 spheres of life,\nparticularly that of civil society. This conference\nwill 
 examine the socio-political needs of the Iranian\nwoman in regards to 
 ethnicity, gender, religion, class\nbackground, sexuality, and sexual 
 orientation.\n\nhe Iranian Women's Studies Foundation (IWSF) is 
 a\nnon-profit organization. It has no affiliation to any\npolitical or 
 religious group or organization, and aims\nto provide a forum for the 
 exchange of ideas on issues\nrelated to Iranian women, to disseminate 
 information\non Iranian women's achievements, and to establish a\nnetwork 
 of communication among communities of Iranian\nwomen the world 
 over.\n\n\nFor more information about our conference and how to\nregister 
 please visit us at www.IWSF.org\n\nEmail: iwsf2008@yahoo.com\n\nTelephone: 
 1-408-317-2240 \nFax: 1-650-386-5170\nMailing Address:\nIWSF P.O.Box 16102 
 Oakland, CA 94610 USA\n 
 https://www.indybay.org/newsitems/2008/06/10/18505793.php
SUMMARY:The 19th International Annual Conference of the Iranian Women ( July 4-6, 2008)
LOCATION:Wheeler Auditorium\nUniversity of California, Berkeley
URL:https://www.indybay.org/newsitems/2008/06/10/18505793.php
DTSTART:20080704T160000Z
DTEND:20080705T040000Z
END:VEVENT
END:VCALENDAR
