BEGIN:VCALENDAR
VERSION:2.0
X-WR-CALNAME:www.indybay.org
PRODID:-//indybay/ical// v1.0//EN
BEGIN:VEVENT
UID:Indybay-18504997
SEQUENCE:18535412
CREATED:20080607T203000Z
DESCRIPTION:Writers With Drinks has been mixing up literary genres at the cocktail hour 
 for over seven years, and has won the SF Bay Guardian's Best of the Bay 
 award four years in a row. This time around, Writers With Drinks features 
 Armistead Maupin, author of the Tales From The City novels and the Night 
 Listener. \n\nAlso reading are Sheerly Avni from Salon.com and the 
 Huffington Post, and Gina DeVries, whose writing appears in Tough Girls 2: 
 Down And Dirty Dyke Erotica. Mystery/thriller author Naomi Hirahara reads 
 from the book Los Angeles Noir. Also performing are poet Ruben Alexander 
 Barron and comedian Lisa Myers. \n\nWhen: Saturday, June 14, from 7:30 to 
 9:30 PM.\nHow much: $3 to $5 sliding scale, and it's a fundraiser for local 
 nonprofits. Where: The Make Out Room, 3225 22nd St. btw. Mission & 
 Valencia, SF\n https://www.indybay.org/newsitems/2008/06/07/18504997.php
SUMMARY:Armistead Maupin reads at Writers With Drinks
LOCATION:The Make Out Room, 3225 22nd. St. btw. Mission & Valencia
URL:https://www.indybay.org/newsitems/2008/06/07/18504997.php
DTSTART:20080615T023000Z
DTEND:20080615T043000Z
END:VEVENT
END:VCALENDAR
